
BEGIN:VCALENDAR
VERSION:2.0
PRODID:-//wp-events-plugin.com//7.2.3.1//EN
TZID:Europe/Paris
X-WR-TIMEZONE:Europe/Paris
BEGIN:VEVENT
UID:152@spp.asso.fr
DTSTART;TZID=Europe/Paris:20191013T170000
DTEND;TZID=Europe/Paris:20191013T190000
DTSTAMP:20191022T192333Z
URL:https://www.spp.asso.fr/events/webinaire-une-specificite-de-la-psychan
 alyse-francaise-croisements-avec-les-autres-disciplines/
SUMMARY:Webinaire - Une spécificité de la psychanalyse française : croi
 sements avec les autres disciplines
DESCRIPTION:Webinaire\nDimanche 13 octobre 17h00-19h00\nSpécificités de 
 la psychanalyse française\nUne spécificité : croisements avec les autr
 es disciplines\navec Sophie de Mijolla-Mellor\net Pascal-Henri Keller\nOrg
 anisation Marilia Aisenstein et Eléana Mylona\nLors du dernier WEBINAIRE 
 César Botella a ouvert la question complexe de la recherche en psychanaly
 se. Ceci nous amène à examiner sa proposition de concevoir la psychanaly
 se en tant que "développement d’une pensée de par sa nature contrainte
  à évoluer sans cesse qui s’imposerait d’elle-même aux psychanalyst
 es." Nous avons souhaité continuer et mettre au travail les rapports de l
 a psychanalyse avec les autres domaines du savoir sur l'humain dans la soc
 ièté actuelle.\nNous avons invité Sophie de Mijolla Mellor qui nous exp
 osera de son point de vue des « interactions de la psychanalyse »\, sa
  conception\, que la recherche en psychanalyse n’a pas de champ spécifi
 que\, c'est du domaine « incommensurable »\, au sens où\, comme la ph
 ilosophie\, elle peut se saisir de toute espèce de sujet relatif à l’h
 umain individuel et collectif. L’interaction par laquelle le théorico-c
 linique de la psychanalyse entre en contact\, voire en confrontation\, ave
 c d’autres disciplines la conduit à une permanente interrogation sur se
 s notions\, sinon sur ses concepts\, position scientifique fondamentale qu
 i était celle de Freud.\nElle donnera quelques exemples à partir d’une
  part de ses propres thèmes de recherche et de leur entrecroisement avec 
 des questions philosophiques et sociétales\, et\, d’autre part à parti
 r des travaux menés dans le cadre de l’Association Interactions de la P
 sychanalyse et de la revue Topique.\nL’intervention de P.-H. Keller s’
 inspire elle du rapport collectif : «  Rapport d’experts sur les avan
 cées et apports des psychanalystes français »\, signé en 2018 par les
  associations françaises de psychanalyse. Il propose une réflexion sur l
 es liens qui existent entre le texte de Freud\, Malaise dans la culture\, 
 et certains points d’actualité de ce début de 21ème siècle. Il va ex
 poser comment culture et psychanalyse ont partie liée et interroge à ce 
 sujet l’engagement des psychanalystes.\nNous sommes heureux de vous invi
 ter à travailler ensemble sur ces questions si importantes pour l'avenir 
 de la psychanalyse et de nous tous lors du Webinar du dimanche 13 octobre 
 17h00-19h00.\nPour s'inscrire\, contacter les organisatrices :\nMarilia A
 ïsentstein : marilia.aisenstein@gmail.com\nEléana Mylona : e.mylona@ora
 nge.fr\n \n 
ATTACH;FMTTYPE=image/jpeg:https://www.spp.asso.fr/wp-content/uploads/2019/
 09/Webinaire_octobre_2019_annonce-1.jpg
CATEGORIES:Conférences,Paris
END:VEVENT
BEGIN:VTIMEZONE
TZID:Europe/Paris
X-LIC-LOCATION:Europe/Paris
BEGIN:DAYLIGHT
DTSTART:20190331T030000
TZOFFSETFROM:+0100
TZOFFSETTO:+0200
TZNAME:CEST
END:DAYLIGHT
END:VTIMEZONE
END:VCALENDAR