
BEGIN:VCALENDAR
VERSION:2.0
PRODID:-//wp-events-plugin.com//7.2.3.1//EN
TZID:Europe/Paris
X-WR-TIMEZONE:Europe/Paris
BEGIN:VEVENT
UID:330@spp.asso.fr
DTSTART;TZID=Europe/Paris:20230610T000000
DTEND;TZID=Europe/Paris:20230611T000000
DTSTAMP:20230614T091720Z
URL:https://www.spp.asso.fr/events/xvieme-colloque-franco-italien/
SUMMARY:XVIème Colloque franco-italien
DESCRIPTION:NAPLES\, 10-11 JUIN 2023\n\nDéclinaisons de l’Inquiétant\nC
 omité scientifique et d’organisation de la SPI : Chiara Rosso avec Silv
 ia Anfilocchi\, Luca Bruno\, Maria Luisa Califano\, Maria Moscara\, Carmen
  Riemer\, et les membres de la Commission scientifique.\nComité scientifi
 que et d’organisation de la SPP : Sabina Lambertucci-Mann avec Alexia Bl
 ime-Cousi\, Pierre Denis\, Michiel Engel\, Marcela Montes de Oca avec la p
 articipation d’Emmanuelle Chervet\, secrétaire scientifique de la SPP.\
 nLe colloque aura lieu en présence et en visioconférence. Les places en 
 présence seront limitées.\nUne traduction dans les deux langues aura lie
 u au cours des séances plénières.\nDans les ateliers de l’après-midi
 \, les organisateurs et les collègues qui présenteront des textes cliniq
 ues participeront à la traduction.\nLe colloque est ouvert aux membres et
  aux analystes en formation de la SPI\, de l’AIPsi\, de la SPP et de l
 ’APF\, mais aussi aux membres d’autres sociétés composantes de l’I
 PA.\nTélécharger le programme\nINSCRIPTION : https://ecm.coopmatrix.it/c
 orsi-ecm/conference-xvi-colloque-italien-francais/\nHOTELS EN PROXIMITÉ D
 U LIEU DU COLLOQUE \nHOTEL PALAZZO ALABARDIERI****\nVia Alabardieri\, 38 w
 ww.palazzoalabardieri.it/it\nPrezzi in convenzione (160 euro DUS standard\
 , 199 euro doppia standard)\, fino a esaurimento stanze\, inviando email a
 : a.tropeano@palazzoalabardieri.it - codice: SPI-SPP2023 \nHOTEL VESUVIO *
 ***\nVia Partenope 45\, 80121 www.vesuvio.it\nHOTEL ROYAL CONTINENTAL ****
 \nVia Partenope\, 38/44 www.royalgroup.it/royalcontinental/it/hotel\nHOTEL
  EXCELSIOR ****\nVia Partenope \, 48 www.eurostarshotels.it/eurostars-hote
 l-excelsio\nGRAND HOTEL ORIENTE ****\nVia Armando Diaz\, 44 www.grandhotel
 oriente.it\nNH NAPOLI PANORAMA ****\nVia Medina\, 70 nhnapolipanorama@nh-h
 otels.com \nREINASSANCE HOTEL MEDITERRANEO****\nVia Ponte di Tappia\, 25 w
 ww.mediterraneonapoli.com\nHOTEL EXE MAJESTIC ****\nLargo Vasto a Chiaia\,
  68 www.eurostarshotels.it/exe-majestic.html\nHOTEL REX***\nVia Palepoli\,
  12 https://www.hotel-rex.it\nE&amp\;B EN PROXIMITÉ DU LIEU DU COLLOQUE\n
 Relais Piazza Martiri http://www.relaispiazzadeimartiri.it\nNapoliday http
 ://www.napoliday.it\nChiaia Bridge B&amp\;B https://beb.it/chiaiabridge/it
 /\nLeone casa d’autore https://leone-camere-dautore.hotel-naples.com\nB&
 amp\;B Filangeri http://www.bbfilangieri.it\nSunset Apartment https://suns
 et-bed-and-breakfast.hotel-naples.com/it/#main\nMorelli Suite https://www.
 morellisuite.it\nB&amp\;B Morelli 49 http://morelli.naples.hotels-in-it.co
 m\nIl Salotto B&amp\;B https://www.ilsalottodellaregina.it\n[pdf-embedder 
 url="https://www.spp.asso.fr/wp-content/uploads/2023/03/programma_Web_SPI_
 FR.pdf" title="Colloque franco-italien Naples\, 2023" width="100%"]
ATTACH;FMTTYPE=image/jpeg:https://www.spp.asso.fr/wp-content/uploads/2022/
 07/Colloque-franco-italien_2023.jpg
CATEGORIES:Colloques,International
LOCATION:Palazzo Alabardieri\, Via Alabardieri\, 38\, Napoli\, Italie
X-APPLE-STRUCTURED-LOCATION;VALUE=URI;X-ADDRESS=Via Alabardieri\, 38\, Napo
 li\, Italie;X-APPLE-RADIUS=100;X-TITLE=Palazzo Alabardieri:geo:0,0
END:VEVENT
BEGIN:VTIMEZONE
TZID:Europe/Paris
X-LIC-LOCATION:Europe/Paris
BEGIN:DAYLIGHT
DTSTART:20230326T030000
TZOFFSETFROM:+0100
TZOFFSETTO:+0200
TZNAME:CEST
END:DAYLIGHT
END:VTIMEZONE
END:VCALENDAR