
BEGIN:VCALENDAR
VERSION:2.0
PRODID:-//wp-events-plugin.com//7.2.3.1//EN
TZID:Europe/Paris
X-WR-TIMEZONE:Europe/Paris
BEGIN:VEVENT
UID:463@spp.asso.fr
DTSTART;TZID=Europe/Paris;VALUE=DATE:20241012
DTEND;TZID=Europe/Paris;VALUE=DATE:20241014
DTSTAMP:20241015T151926Z
URL:https://www.spp.asso.fr/events/xxii-colloque-du-capa-ladolescent-et-so
 n-corps-quels-regards-aujourdhui/
SUMMARY:XXII Colloque du CAPA — L'adolescent et son corps - Quels regards
  aujourd'hui ?
DESCRIPTION:\nModalités d'inscription et renseignements\nCAPA - 2\, Rue du
  Bocage 33200 BORDEAUX - Tél. 05 56 44 45 84\nwww.psychopathoado-bordeaux
 .fr\ncontact@psychopathoado-bordeaux.fr
ATTACH;FMTTYPE=image/jpeg:https://www.spp.asso.fr/wp-content/uploads/2024/
 04/XXII-Colloque-du-CAPA_2024_ima2.jpg
CATEGORIES:Colloques
LOCATION:Institut Don Bosco\, 181\, rue Saint-François-Xavier\, Gradignan\
 , 33170\, France
X-APPLE-STRUCTURED-LOCATION;VALUE=URI;X-ADDRESS=181\, rue Saint-François-X
 avier\, Gradignan\, 33170\, France;X-APPLE-RADIUS=100;X-TITLE=Institut Don
  Bosco:geo:0,0
END:VEVENT
BEGIN:VTIMEZONE
TZID:Europe/Paris
X-LIC-LOCATION:Europe/Paris
BEGIN:DAYLIGHT
DTSTART:20240331T030000
TZOFFSETFROM:+0100
TZOFFSETTO:+0200
TZNAME:CEST
END:DAYLIGHT
END:VTIMEZONE
END:VCALENDAR