
BEGIN:VCALENDAR
VERSION:2.0
PRODID:-//wp-events-plugin.com//7.2.3.1//EN
TZID:Europe/Paris
X-WR-TIMEZONE:Europe/Paris
BEGIN:VEVENT
UID:398@spp.asso.fr
DTSTART;TZID=Europe/Paris;VALUE=DATE:20230930
DTEND;TZID=Europe/Paris;VALUE=DATE:20231001
DTSTAMP:20231002T110904Z
URL:https://www.spp.asso.fr/events/xxxveme-joumee-annuelle-du-groupe-toulo
 usain-de-la-spp-le-travail-de-culture/
SUMMARY:Xxxvème Joumée Annuelle du Groupe Toulousain de la SPP : Le Trava
 il de Culture
DESCRIPTION:PROGRAMME / LE TRAVAIL DE CULTURE\n8h30 Accueil des participant
 s\nMATINÉE\nPrésidence: Geneviève Record\n9h00 Ouverture de la journée
 \nGeneviève Record\n9h10 Introduction\nCatherine Bruni\n9h30 Ulysse et le
 s dangers de la mer(e)\, une sublimation ?\nJulien Muzard\n10h00 Discussio
 n\nMichelle Catteeuw\n10h20 Echange avec la salle\n10h45 Pause\n11h15 Simo
 n\, un cas de mélancolie entre petite et grande histoire\nJean Louis Maur
 ette\n11h45 Discussion\nSabine Fabre\n12h05 Echange avec la salle\n12h30 F
 in de matinée\nINTERMEDE\n14h15 Le cercle des livres\nAPRÈS-MIDI\nPrési
 dence : Annick Sitbon\n14h30 Entre culture et désolation politique\, la l
 oi.\nÀ propos de l'Homme Moïse\nLaurence Kahn\n15h15 Discussion\nMartine
  Girard\n15h45 Table ronde avec Bernard Bensidoun\, Martine Girard\, Laure
 nce Kahn\, Jean Louis Maurette\, Julien Muzard\, Annick Sitbon\n16h15 Echa
 nge avec la salle\n16h45 Fin de l'après-midi\n\nINTERVENANTS\n\nBernard B
 ensidoun\, psychanalyste SPP Toulouse\nCatherine Bruni\, psychanalyste SPP
  Toulouse\nMichelle Catteeuw\, psychanalyste SPP Toulouse\nSabine Fabre\, 
 psychanalyste SPP Toulouse\nMartine Girard\, psychanalyste SPP Toulouse\nL
 aurence Kahn\, psychanalyste APF Paris\nJean Louis Maurette\, psychanalyst
 e SPP Toulouse\nJulien Muzard\, psychanalyste SPP Bordeaux\nAnnick Sitbon\
 , psychanalyste SPP\, Paris\nGeneviève Record\, psychanalyste\, Présiden
 te du Groupe Toulousain de la SPP\n\nARGUMENT / Le travail de culture \n\
 nLe travail de culture\, Kulturarbeit\, introduit par Freud en 1933 est un
  concept psychanalytique original qui invite à lier sans pour autant les 
 confondre\, les destins du développement libidinal au processus de cultur
 e. Il s'agit d'un travail psychique inconscient nouant l'individuel au col
 lectif. Il répond à une exigence de solutions psychiques dans le conflit
  opposant les besoins du moi à ceux de la collectivité\, compte tenu des
  pressions exercées par les pulsions d'Éros et de Thanatos. Le Surmoi y 
 occupe une place centrale\, comme témoin des acquisitions psychiques de l
 a culture\, impliquant un renoncement pulsionnel. La sublimation apparaît
  alors comme une solution individuelle pour renoncer à des plaisirs prima
 ires et immédiats et engager les pulsions à se transformer et s'atteler 
 à des tâches culturellement et socialement valorisées. Mais ce renoncem
 ent pulsionnel au profit de la socialité nourrit en chacun une haine de l
 a culture alors que le travail de liaison qu'elle opère a pour vocation d
 e s'opposer à la destructivité. C'est ainsi que « chaque individu est v
 irtuellement un ennemi de la culture » (Freud\,1930\, Malaise dans la cul
 ture).\nCe paradoxe pose la question des destins de la haine au niveau col
 lectif. Laurence Kahn\, nous invite à la réflexion : « Quelle forme cet
 te haine doit-elle prendre pour souder les hommes en déguisant suffisamme
 nt la composante destructrice ? ». Les figures du mal absolu et de la bar
 barie qu'a connu l'histoire depuis le XXième siècle\, nous montrent que 
 ni la sublimation\, ni les idéaux collectifs nous garantissent l'issue du
  conflit entre Éros et Thanatos\ndans le sens d'un progrès de la culture
 . Et pourtant\, le travail de culture n'est-il pas ce qui est au fondement
  de notre\nhumanité\, comme seul garant collectif possible du destin indi
 viduel? Nathalie Zaltzman à la suite de Freud postule que ce processus in
 conscient qui « commence dès l'aube de la vie psychique de l'humanité e
 t de chaque individu\, est par son tissage entre l'unique et l'impersonnel
  le garant narcissique minimal ». Durant cette journée\, nous réfléchi
 rons aux formes actuelles du travail de culture tel qu'il nous est donné 
 de l'entendre au cours d'une analyse et\nau-dehors.\n\nINSCRIPTION\n\nLe t
 ravail de culture - 30 septembre\n\nInscription et paiement en ligne sur w
 ww.psychanalysetoulouse.fr\nou auprès du secrétariat du GTSPP :\n100 All
 ée de Barcelone 31000 Toulouse\n05 61 62 33 62\nTARIFS\nTarif normal: 50 
 € (Inscription à la journée)\nTarif réduit : Etudiants\, demandeurs d
 'emploi: 25 € (avec justificatif)\nInscription + actes de la journée + 
 frais de port: 65 € (40 € tarif réduit)\n\n&nbsp\;\n\n&nbsp\;
ATTACH;FMTTYPE=image/jpeg:https://www.spp.asso.fr/wp-content/uploads/2023/
 07/GTSPP_Le-Travail-de-Culture_30092023_ima.jpg
CATEGORIES:Colloques
LOCATION:MIC Pont des Demoiselles\,  63 bis Avenue Saint-Exupery\, TOULOUSE
 \, 31400\, France
X-APPLE-STRUCTURED-LOCATION;VALUE=URI;X-ADDRESS= 63 bis Avenue Saint-Exuper
 y\, TOULOUSE\, 31400\, France;X-APPLE-RADIUS=100;X-TITLE=MIC Pont des Demo
 iselles:geo:0,0
END:VEVENT
BEGIN:VTIMEZONE
TZID:Europe/Paris
X-LIC-LOCATION:Europe/Paris
BEGIN:DAYLIGHT
DTSTART:20230326T030000
TZOFFSETFROM:+0100
TZOFFSETTO:+0200
TZNAME:CEST
END:DAYLIGHT
END:VTIMEZONE
END:VCALENDAR