
BEGIN:VCALENDAR
VERSION:2.0
PRODID:-//wp-events-plugin.com//7.2.3.1//EN
TZID:Europe/Paris
X-WR-TIMEZONE:Europe/Paris
BEGIN:VEVENT
UID:133@spp.asso.fr
DTSTART;TZID=Europe/Paris:20200201T133000
DTEND;TZID=Europe/Paris:20200201T180000
DTSTAMP:20200202T060209Z
URL:https://www.spp.asso.fr/events/colloque-2020-de-la-rfp-lenfant-modele/
SUMMARY:Colloque 2020 de la RFP - « L'enfant modèle »
DESCRIPTION:Colloque 2020\nde la Revue française de psychanalyse\nL’ENFA
 NT MODÈLE\nSous la présidence\nde Françoise Coblence et Clarisse Baruch
 \nSamedi 1er février 2020\n13h30 à 18h00\nSalle de l’Association quart
 ier Notre-Dame des Champs\n92bis boulevard du Montparnasse 75014 Paris\n\n
 télécharger le bulletin d'inscription\nou inscriptions sur place\ntélé
 charger le programme\nArgument\nFreud enfant aurait pu\, comme nous\, lire
  Les petites filles modèles\, roman de la Comtesse de Ségur paru en 1858
 . Il aurait rencontré Camille et Madeleine « bonnes\, gentilles\, aimab
 les » soumises aux injonctions éducatives des adultes\, et leur cousine
  Sophie\, modèle de l’enfant perverse polymorphe\, animée par la curio
 sité infantile\, proche de ce qu’il allait construire quarante ans plus
  tard : l’enfant (l’infantile) comme modèle épistémologique de la 
 psychanalyse. Les « modèles » s’étant multipliés\, la question d’
 André Green (1979) se pose plus que jamais : que faire de l’enfant que
  Freud a mis dans les bras des psychanalystes ?\n\nL’hétérogénéité
  du modèle a varié avec les courants psychanalytiques. Chacun des couran
 ts postfreudiens construit en filigrane son « enfant modèle » et ses 
 techniques du maniement du transfert.\n\nAvec la récente possibilité d
 ’éditer le génome\,  l’idée de l’enfant « parfait » débarrass
 é dès avant sa naissance des maladies héréditaires conduirait-elle à 
 choisir les critères du bébé modèle ? Est-il urgent de repenser les li
 ens entre « l’enfant » et le désir « d’enfant idéal » des pa
 rents ?\n\nÀ travers la prolifération des questions nouvelles posées a
 ussi bien par les évolutions de la clinique que par les technologies\, l
 ’enfant modèle dessine-t-il des relations nouvelles avec l’objet ? L
 e sexuel infantile\, ses intrications et ses désintrications constituent-
 ils une invariance qui pourrait tenir lieu de terre natale et de fil condu
 cteur ?\nL'enfant modèle\nsous la présidence de Clarisse Baruch et de F
 rançoise Coblence\navec les rédactrices du numéro « L’enfant modèle
  »\, Pascale Navarri\net Hélène Suarez-Labat\, et Isabelle Martin-Kami
 eniak\, coordinatrice du numéro\n\nProgramme\n 13h00 : Accueil des parti
 cipants \n\n13h30 : Ouverture du colloque par Clarisse Baruch et Françoi
 se Coblence \n\n14h : Table ronde - Modératice : Hélène Suarez-Labat 
 \n\nEmmanuel Pernoud : – Le papillon et la fumée de cigare – Sur une 
 pein-ture de J.S. Sargent\nSarah Troubé et Céline Barriol – Le Petit P
 rince ou la mélancolisation de l’enfant modèle\nGilbert Diatkine – U
 n modèle de la cure d’enfant \n\n15h45-16h15 : Pause \n\n16h15 : Tabl
 e ronde - Modératrice : Pascale Navarri\n\n\nCatherine Weismann-Arcache 
 – L’effet de serre en clinique infantile\nAnne-Sophie Bourdaud – Dé
 sir et prémonition de l’enfant modèle musi-cien\nSamuel Lepastier – 
 Lorsque l’enfant paraît\, la sexualité infantile disparaît \n\n&nbsp
 \;\n\n&nbsp\;
ATTACH;FMTTYPE=image/jpeg:https://www.spp.asso.fr/wp-content/uploads/2019/
 07/Colloque_RFP_2020_visuel.jpg
CATEGORIES:Colloques,Paris
LOCATION:Salle de l’Association quartier Notre-Dame des Champs\, 92bis bo
 ulevard du Montparnasse\, Paris\, 75014\, France
GEO:48.8427045;2.326885100000027
X-APPLE-STRUCTURED-LOCATION;VALUE=URI;X-ADDRESS=92bis boulevard du Montparn
 asse\, Paris\, 75014\, France;X-APPLE-RADIUS=100;X-TITLE=Salle de l’Asso
 ciation quartier Notre-Dame des Champs:geo:48.8427045,2.326885100000027
END:VEVENT
BEGIN:VTIMEZONE
TZID:Europe/Paris
X-LIC-LOCATION:Europe/Paris
BEGIN:STANDARD
DTSTART:20191027T020000
TZOFFSETFROM:+0200
TZOFFSETTO:+0100
TZNAME:CET
END:STANDARD
END:VTIMEZONE
END:VCALENDAR